BEGIN:VCALENDAR
VERSION:2.0
PRODID:-//BCMH Seattle - ECPv6.15.20//NONSGML v1.0//EN
CALSCALE:GREGORIAN
METHOD:PUBLISH
X-ORIGINAL-URL:https://bcmhseattle.org
X-WR-CALDESC:Events for BCMH Seattle
REFRESH-INTERVAL;VALUE=DURATION:PT1H
X-Robots-Tag:noindex
X-PUBLISHED-TTL:PT1H
BEGIN:VTIMEZONE
TZID:America/Los_Angeles
BEGIN:DAYLIGHT
TZOFFSETFROM:-0800
TZOFFSETTO:-0700
TZNAME:PDT
DTSTART:20240310T100000
END:DAYLIGHT
BEGIN:STANDARD
TZOFFSETFROM:-0700
TZOFFSETTO:-0800
TZNAME:PST
DTSTART:20241103T090000
END:STANDARD
BEGIN:DAYLIGHT
TZOFFSETFROM:-0800
TZOFFSETTO:-0700
TZNAME:PDT
DTSTART:20250309T100000
END:DAYLIGHT
BEGIN:STANDARD
TZOFFSETFROM:-0700
TZOFFSETTO:-0800
TZNAME:PST
DTSTART:20251102T090000
END:STANDARD
BEGIN:DAYLIGHT
TZOFFSETFROM:-0800
TZOFFSETTO:-0700
TZNAME:PDT
DTSTART:20260308T100000
END:DAYLIGHT
BEGIN:STANDARD
TZOFFSETFROM:-0700
TZOFFSETTO:-0800
TZNAME:PST
DTSTART:20261101T090000
END:STANDARD
END:VTIMEZONE
BEGIN:VEVENT
DTSTART;TZID=America/Los_Angeles:20250329T113000
DTEND;TZID=America/Los_Angeles:20250329T133000
DTSTAMP:20260425T080707
CREATED:20250318T155226Z
LAST-MODIFIED:20250318T155226Z
UID:46365-1743247800-1743255000@bcmhseattle.org
SUMMARY:Shabbos Luncheon\, March 29\, 2025 with David Ze'ev\, Jerusalem Post Opinion Editor
DESCRIPTION:COST: \nAdults: $36 \nKids ages 3 – 10: $20 \nKids 2 & Under: Free \nFamily Rate: $130
URL:https://bcmhseattle.org/event/shabbos-luncheon-march-29-2025-with-david-zeev-jerusalem-post-opinion-editor/
LOCATION:BCMH Social Hall\, 5145 S Morgan Street\, Seattle\, WA\, 98118\, United States
CATEGORIES:Events Page
ATTACH;FMTTYPE=image/jpeg:https://bcmhseattle.org/wp-content/uploads/2025/03/Zeev-David-snip-it.jpg
END:VEVENT
END:VCALENDAR