BEGIN:VCALENDAR
VERSION:2.0
PRODID:-//BCMH Seattle - ECPv6.15.20//NONSGML v1.0//EN
CALSCALE:GREGORIAN
METHOD:PUBLISH
X-WR-CALNAME:BCMH Seattle
X-ORIGINAL-URL:https://bcmhseattle.org
X-WR-CALDESC:Events for BCMH Seattle
REFRESH-INTERVAL;VALUE=DURATION:PT1H
X-Robots-Tag:noindex
X-PUBLISHED-TTL:PT1H
BEGIN:VTIMEZONE
TZID:America/Los_Angeles
BEGIN:DAYLIGHT
TZOFFSETFROM:-0800
TZOFFSETTO:-0700
TZNAME:PDT
DTSTART:20240310T100000
END:DAYLIGHT
BEGIN:STANDARD
TZOFFSETFROM:-0700
TZOFFSETTO:-0800
TZNAME:PST
DTSTART:20241103T090000
END:STANDARD
BEGIN:DAYLIGHT
TZOFFSETFROM:-0800
TZOFFSETTO:-0700
TZNAME:PDT
DTSTART:20250309T100000
END:DAYLIGHT
BEGIN:STANDARD
TZOFFSETFROM:-0700
TZOFFSETTO:-0800
TZNAME:PST
DTSTART:20251102T090000
END:STANDARD
BEGIN:DAYLIGHT
TZOFFSETFROM:-0800
TZOFFSETTO:-0700
TZNAME:PDT
DTSTART:20260308T100000
END:DAYLIGHT
BEGIN:STANDARD
TZOFFSETFROM:-0700
TZOFFSETTO:-0800
TZNAME:PST
DTSTART:20261101T090000
END:STANDARD
END:VTIMEZONE
BEGIN:VEVENT
DTSTART;TZID=America/Los_Angeles:20250208T193000
DTEND;TZID=America/Los_Angeles:20250208T213000
DTSTAMP:20260425T094440
CREATED:20250124T225013Z
LAST-MODIFIED:20250127T140643Z
UID:46330-1739043000-1739050200@bcmhseattle.org
SUMMARY:Wine & Candle Crafting for Women Only
DESCRIPTION:Saturday Night\, February 8th \nCost: $25 if register by February 1st \nCost after February 1st is $35 \nREGISTER HERE \n  \n 
URL:https://bcmhseattle.org/event/wine-candle-crafting-for-women-only/
LOCATION:BCMH Social Hall\, 5145 S Morgan Street\, Seattle\, WA\, 98118\, United States
ATTACH;FMTTYPE=image/jpeg:https://bcmhseattle.org/wp-content/uploads/2025/01/WineCandleCraftingSnipIt.jpg
END:VEVENT
END:VCALENDAR