BEGIN:VCALENDAR
VERSION:2.0
PRODID:-//BCMH Seattle - ECPv6.15.20//NONSGML v1.0//EN
CALSCALE:GREGORIAN
METHOD:PUBLISH
X-WR-CALNAME:BCMH Seattle
X-ORIGINAL-URL:https://bcmhseattle.org
X-WR-CALDESC:Events for BCMH Seattle
REFRESH-INTERVAL;VALUE=DURATION:PT1H
X-Robots-Tag:noindex
X-PUBLISHED-TTL:PT1H
BEGIN:VTIMEZONE
TZID:America/Los_Angeles
BEGIN:DAYLIGHT
TZOFFSETFROM:-0800
TZOFFSETTO:-0700
TZNAME:PDT
DTSTART:20210314T100000
END:DAYLIGHT
BEGIN:STANDARD
TZOFFSETFROM:-0700
TZOFFSETTO:-0800
TZNAME:PST
DTSTART:20211107T090000
END:STANDARD
BEGIN:DAYLIGHT
TZOFFSETFROM:-0800
TZOFFSETTO:-0700
TZNAME:PDT
DTSTART:20220313T100000
END:DAYLIGHT
BEGIN:STANDARD
TZOFFSETFROM:-0700
TZOFFSETTO:-0800
TZNAME:PST
DTSTART:20221106T090000
END:STANDARD
BEGIN:DAYLIGHT
TZOFFSETFROM:-0800
TZOFFSETTO:-0700
TZNAME:PDT
DTSTART:20230312T100000
END:DAYLIGHT
BEGIN:STANDARD
TZOFFSETFROM:-0700
TZOFFSETTO:-0800
TZNAME:PST
DTSTART:20231105T090000
END:STANDARD
END:VTIMEZONE
BEGIN:VEVENT
DTSTART;TZID=America/Los_Angeles:20220604T001500
DTEND;TZID=America/Los_Angeles:20220604T034500
DTSTAMP:20260425T204245
CREATED:20220526T150555Z
LAST-MODIFIED:20220526T223201Z
UID:22086-1654301700-1654314300@bcmhseattle.org
SUMMARY:Shavuos All Night Learning 5782
DESCRIPTION:
URL:https://bcmhseattle.org/event/shavuos-all-night-learning-5782/
LOCATION:T-Mobile Park\, 1250 1st AVE S\, Seattle\, WA\, 98118\, United States
END:VEVENT
BEGIN:VEVENT
DTSTART;TZID=America/Los_Angeles:20220409T180000
DTEND;TZID=America/Los_Angeles:20220409T190000
DTSTAMP:20260425T204245
CREATED:20220405T185952Z
LAST-MODIFIED:20220405T220926Z
UID:21876-1649527200-1649530800@bcmhseattle.org
SUMMARY:Shabbos HaGadol Drasha
DESCRIPTION:Shabbos HaGadol Drasha Shabbos Day\, April 9th BCMH Main Sanctuary
URL:https://bcmhseattle.org/event/shabbos-hagadol-drasha/
LOCATION:T-Mobile Park\, 1250 1st AVE S\, Seattle\, WA\, 98118\, United States
CATEGORIES:All events
ATTACH;FMTTYPE=image/jpeg:https://bcmhseattle.org/wp-content/uploads/2022/04/Shabbos-Hagadol-snip4.jpg
END:VEVENT
BEGIN:VEVENT
DTSTART;TZID=America/Los_Angeles:20220208T193000
DTEND;TZID=America/Los_Angeles:20220208T210000
DTSTAMP:20260425T204245
CREATED:20211107T175155Z
LAST-MODIFIED:20220405T221818Z
UID:21090-1644348600-1644354000@bcmhseattle.org
SUMMARY:Pirkei Avos Shiur
DESCRIPTION:Pirkei Avos through the eyes of the Maharal of Prague\nA Shiur by Rabbi Tanenbaum for Men and Women\nIn Memory of Lynda Wegodsky\nZoom Meeting ID: 826 4150 1119   Passcode: 613
URL:https://bcmhseattle.org/event/pirkei-avos-shuir/
LOCATION:Via Zoom Only
CATEGORIES:All events
END:VEVENT
END:VCALENDAR