BEGIN:VCALENDAR
VERSION:2.0
PRODID:-//BCMH Seattle - ECPv6.15.20//NONSGML v1.0//EN
CALSCALE:GREGORIAN
METHOD:PUBLISH
X-ORIGINAL-URL:https://bcmhseattle.org
X-WR-CALDESC:Events for BCMH Seattle
REFRESH-INTERVAL;VALUE=DURATION:PT1H
X-Robots-Tag:noindex
X-PUBLISHED-TTL:PT1H
BEGIN:VTIMEZONE
TZID:America/Los_Angeles
BEGIN:DAYLIGHT
TZOFFSETFROM:-0800
TZOFFSETTO:-0700
TZNAME:PDT
DTSTART:20240310T100000
END:DAYLIGHT
BEGIN:STANDARD
TZOFFSETFROM:-0700
TZOFFSETTO:-0800
TZNAME:PST
DTSTART:20241103T090000
END:STANDARD
BEGIN:DAYLIGHT
TZOFFSETFROM:-0800
TZOFFSETTO:-0700
TZNAME:PDT
DTSTART:20250309T100000
END:DAYLIGHT
BEGIN:STANDARD
TZOFFSETFROM:-0700
TZOFFSETTO:-0800
TZNAME:PST
DTSTART:20251102T090000
END:STANDARD
BEGIN:DAYLIGHT
TZOFFSETFROM:-0800
TZOFFSETTO:-0700
TZNAME:PDT
DTSTART:20260308T100000
END:DAYLIGHT
BEGIN:STANDARD
TZOFFSETFROM:-0700
TZOFFSETTO:-0800
TZNAME:PST
DTSTART:20261101T090000
END:STANDARD
END:VTIMEZONE
BEGIN:VEVENT
DTSTART;TZID=America/Los_Angeles:20251207T190000
DTEND;TZID=America/Los_Angeles:20251207T220000
DTSTAMP:20260424T190431
CREATED:20251106T175529Z
LAST-MODIFIED:20251106T175529Z
UID:46478-1765134000-1765144800@bcmhseattle.org
SUMMARY:BCMH Annual Gala 2025\, Sunday\, December 7\, 2025
DESCRIPTION:Honoring Marlene Kaplan & Marc Kravette \nSteve Shulman z”l Community Safety & Servicd Award Recipients: Rachel and Adam Rozen \nBCMH Youth of the Year Recipients: Keira Birk and Charlie Feuer
URL:https://bcmhseattle.org/event/bcmh-annual-gala-2025-sunday-december-7-2025/
LOCATION:BCMH Social Hall\, 5145 S Morgan Street\, Seattle\, WA\, 98118\, United States
CATEGORIES:Events Page
ATTACH;FMTTYPE=image/jpeg:https://bcmhseattle.org/wp-content/uploads/2025/11/BCMH-Gala-snip.jpg
END:VEVENT
END:VCALENDAR