BEGIN:VCALENDAR
VERSION:2.0
PRODID:-//BCMH Seattle - ECPv6.15.20//NONSGML v1.0//EN
CALSCALE:GREGORIAN
METHOD:PUBLISH
X-ORIGINAL-URL:https://bcmhseattle.org
X-WR-CALDESC:Events for BCMH Seattle
REFRESH-INTERVAL;VALUE=DURATION:PT1H
X-Robots-Tag:noindex
X-PUBLISHED-TTL:PT1H
BEGIN:VTIMEZONE
TZID:America/Los_Angeles
BEGIN:DAYLIGHT
TZOFFSETFROM:-0800
TZOFFSETTO:-0700
TZNAME:PDT
DTSTART:20230312T100000
END:DAYLIGHT
BEGIN:STANDARD
TZOFFSETFROM:-0700
TZOFFSETTO:-0800
TZNAME:PST
DTSTART:20231105T090000
END:STANDARD
BEGIN:DAYLIGHT
TZOFFSETFROM:-0800
TZOFFSETTO:-0700
TZNAME:PDT
DTSTART:20240310T100000
END:DAYLIGHT
BEGIN:STANDARD
TZOFFSETFROM:-0700
TZOFFSETTO:-0800
TZNAME:PST
DTSTART:20241103T090000
END:STANDARD
BEGIN:DAYLIGHT
TZOFFSETFROM:-0800
TZOFFSETTO:-0700
TZNAME:PDT
DTSTART:20250309T100000
END:DAYLIGHT
BEGIN:STANDARD
TZOFFSETFROM:-0700
TZOFFSETTO:-0800
TZNAME:PST
DTSTART:20251102T090000
END:STANDARD
END:VTIMEZONE
BEGIN:VEVENT
DTSTART;TZID=America/Los_Angeles:20241019T160000
DTEND;TZID=America/Los_Angeles:20241019T170000
DTSTAMP:20260425T185331
CREATED:20241010T135656Z
LAST-MODIFIED:20241010T142445Z
UID:46256-1729353600-1729357200@bcmhseattle.org
SUMMARY:BCMH Presents Hops Scotch
DESCRIPTION:October 19\, 2024\, Shabbos Chol HaMoed \nIf you are able to be a host\, please email Ari Hoffman at thehoffather@gmail.com \nThe Succah Hop for ADULTS 21 and Over
URL:https://bcmhseattle.org/event/bcmh-presents-hops-scotch/
LOCATION:T-Mobile Park\, 1250 1st AVE S\, Seattle\, WA\, 98118\, United States
ATTACH;FMTTYPE=image/jpeg:https://bcmhseattle.org/wp-content/uploads/2024/10/Hops-Scotch-2024-Snip-It-1.jpg
END:VEVENT
END:VCALENDAR