BEGIN:VCALENDAR
VERSION:2.0
PRODID:-//BCMH Seattle - ECPv6.15.20//NONSGML v1.0//EN
CALSCALE:GREGORIAN
METHOD:PUBLISH
X-WR-CALNAME:BCMH Seattle
X-ORIGINAL-URL:https://bcmhseattle.org
X-WR-CALDESC:Events for BCMH Seattle
REFRESH-INTERVAL;VALUE=DURATION:PT1H
X-Robots-Tag:noindex
X-PUBLISHED-TTL:PT1H
BEGIN:VTIMEZONE
TZID:America/Los_Angeles
BEGIN:DAYLIGHT
TZOFFSETFROM:-0800
TZOFFSETTO:-0700
TZNAME:PDT
DTSTART:20220313T100000
END:DAYLIGHT
BEGIN:STANDARD
TZOFFSETFROM:-0700
TZOFFSETTO:-0800
TZNAME:PST
DTSTART:20221106T090000
END:STANDARD
BEGIN:DAYLIGHT
TZOFFSETFROM:-0800
TZOFFSETTO:-0700
TZNAME:PDT
DTSTART:20230312T100000
END:DAYLIGHT
BEGIN:STANDARD
TZOFFSETFROM:-0700
TZOFFSETTO:-0800
TZNAME:PST
DTSTART:20231105T090000
END:STANDARD
BEGIN:DAYLIGHT
TZOFFSETFROM:-0800
TZOFFSETTO:-0700
TZNAME:PDT
DTSTART:20240310T100000
END:DAYLIGHT
BEGIN:STANDARD
TZOFFSETFROM:-0700
TZOFFSETTO:-0800
TZNAME:PST
DTSTART:20241103T090000
END:STANDARD
END:VTIMEZONE
BEGIN:VEVENT
DTSTART;TZID=America/Los_Angeles:20231022T113000
DTEND;TZID=America/Los_Angeles:20231022T123000
DTSTAMP:20260424T134501
CREATED:20231017T180213Z
LAST-MODIFIED:20231018T172915Z
UID:35643-1697974200-1697977800@bcmhseattle.org
SUMMARY:Yavneh Youth Program Presents Petting Zoo
DESCRIPTION:Sunday\, October 22\, BCMH Parking Lot \nAdmission: $10 \nOpen to ages: Pre School – 5th Grade \nClick Here to Register
URL:https://bcmhseattle.org/event/yavneh-youth-program-presents-petting-zoo/
LOCATION:T-Mobile Park\, 1250 1st AVE S\, Seattle\, WA\, 98118\, United States
CATEGORIES:Events Page,Youth
ATTACH;FMTTYPE=image/jpeg:https://bcmhseattle.org/wp-content/uploads/2023/10/Zoo2.jpg
END:VEVENT
END:VCALENDAR