BEGIN:VCALENDAR
VERSION:2.0
PRODID:-//BCMH Seattle - ECPv6.15.20//NONSGML v1.0//EN
CALSCALE:GREGORIAN
METHOD:PUBLISH
X-WR-CALNAME:BCMH Seattle
X-ORIGINAL-URL:https://bcmhseattle.org
X-WR-CALDESC:Events for BCMH Seattle
REFRESH-INTERVAL;VALUE=DURATION:PT1H
X-Robots-Tag:noindex
X-PUBLISHED-TTL:PT1H
BEGIN:VTIMEZONE
TZID:America/Los_Angeles
BEGIN:DAYLIGHT
TZOFFSETFROM:-0800
TZOFFSETTO:-0700
TZNAME:PDT
DTSTART:20220313T100000
END:DAYLIGHT
BEGIN:STANDARD
TZOFFSETFROM:-0700
TZOFFSETTO:-0800
TZNAME:PST
DTSTART:20221106T090000
END:STANDARD
BEGIN:DAYLIGHT
TZOFFSETFROM:-0800
TZOFFSETTO:-0700
TZNAME:PDT
DTSTART:20230312T100000
END:DAYLIGHT
BEGIN:STANDARD
TZOFFSETFROM:-0700
TZOFFSETTO:-0800
TZNAME:PST
DTSTART:20231105T090000
END:STANDARD
BEGIN:DAYLIGHT
TZOFFSETFROM:-0800
TZOFFSETTO:-0700
TZNAME:PDT
DTSTART:20240310T100000
END:DAYLIGHT
BEGIN:STANDARD
TZOFFSETFROM:-0700
TZOFFSETTO:-0800
TZNAME:PST
DTSTART:20241103T090000
END:STANDARD
END:VTIMEZONE
BEGIN:VEVENT
DTSTART;TZID=America/Los_Angeles:20230319T180000
DTEND;TZID=America/Los_Angeles:20230319T180000
DTSTAMP:20260424T170427
CREATED:20230309T232055Z
LAST-MODIFIED:20230309T232344Z
UID:23462-1679248800-1679248800@bcmhseattle.org
SUMMARY:Pre-Pesach Wine Social
DESCRIPTION:For Adults 21 and over. Sample and order wine(s) for your seder table. \n$20 per per person through March 16th. \n$30 per person March 17th and after (including at the door) \nCLICK HERE TO REGISTER
URL:https://bcmhseattle.org/event/pre-pesach-wine-social/
LOCATION:BCMH Yavneh Youth Center\, 5145 S Morgan Street\, Seattle\, WA\, 98118\, United States
CATEGORIES:Events Page
END:VEVENT
END:VCALENDAR