BEGIN:VCALENDAR
VERSION:2.0
PRODID:-//BCMH Seattle - ECPv6.15.20//NONSGML v1.0//EN
CALSCALE:GREGORIAN
METHOD:PUBLISH
X-WR-CALNAME:BCMH Seattle
X-ORIGINAL-URL:https://bcmhseattle.org
X-WR-CALDESC:Events for BCMH Seattle
REFRESH-INTERVAL;VALUE=DURATION:PT1H
X-Robots-Tag:noindex
X-PUBLISHED-TTL:PT1H
BEGIN:VTIMEZONE
TZID:America/Los_Angeles
BEGIN:DAYLIGHT
TZOFFSETFROM:-0800
TZOFFSETTO:-0700
TZNAME:PDT
DTSTART:20220313T100000
END:DAYLIGHT
BEGIN:STANDARD
TZOFFSETFROM:-0700
TZOFFSETTO:-0800
TZNAME:PST
DTSTART:20221106T090000
END:STANDARD
BEGIN:DAYLIGHT
TZOFFSETFROM:-0800
TZOFFSETTO:-0700
TZNAME:PDT
DTSTART:20230312T100000
END:DAYLIGHT
BEGIN:STANDARD
TZOFFSETFROM:-0700
TZOFFSETTO:-0800
TZNAME:PST
DTSTART:20231105T090000
END:STANDARD
BEGIN:DAYLIGHT
TZOFFSETFROM:-0800
TZOFFSETTO:-0700
TZNAME:PDT
DTSTART:20240310T100000
END:DAYLIGHT
BEGIN:STANDARD
TZOFFSETFROM:-0700
TZOFFSETTO:-0800
TZNAME:PST
DTSTART:20241103T090000
END:STANDARD
END:VTIMEZONE
BEGIN:VEVENT
DTSTART;TZID=America/Los_Angeles:20230401T113000
DTEND;TZID=America/Los_Angeles:20230401T133000
DTSTAMP:20260424T170515
CREATED:20230314T131712Z
LAST-MODIFIED:20230314T151041Z
UID:23478-1680348600-1680355800@bcmhseattle.org
SUMMARY:Pre-Pesach Shabbos Luncheon\, April 1st\, 2023
DESCRIPTION:Adults: $35 \nKids Ages 3-10: $18 \nKids 2 and Under: Free \nFamily Rate: $130 \nCLICK HERE TO REGISTER
URL:https://bcmhseattle.org/event/pre-pesach-shabbos-luncheon-april-1st-2023/
LOCATION:BCMH Social Hall\, 5145 S Morgan Street\, Seattle\, WA\, 98118\, United States
CATEGORIES:Events Page
END:VEVENT
END:VCALENDAR