BEGIN:VCALENDAR
VERSION:2.0
PRODID:-//BCMH Seattle - ECPv6.15.20//NONSGML v1.0//EN
CALSCALE:GREGORIAN
METHOD:PUBLISH
X-WR-CALNAME:BCMH Seattle
X-ORIGINAL-URL:https://bcmhseattle.org
X-WR-CALDESC:Events for BCMH Seattle
REFRESH-INTERVAL;VALUE=DURATION:PT1H
X-Robots-Tag:noindex
X-PUBLISHED-TTL:PT1H
BEGIN:VTIMEZONE
TZID:America/Los_Angeles
BEGIN:DAYLIGHT
TZOFFSETFROM:-0800
TZOFFSETTO:-0700
TZNAME:PDT
DTSTART:20230312T100000
END:DAYLIGHT
BEGIN:STANDARD
TZOFFSETFROM:-0700
TZOFFSETTO:-0800
TZNAME:PST
DTSTART:20231105T090000
END:STANDARD
BEGIN:DAYLIGHT
TZOFFSETFROM:-0800
TZOFFSETTO:-0700
TZNAME:PDT
DTSTART:20240310T100000
END:DAYLIGHT
BEGIN:STANDARD
TZOFFSETFROM:-0700
TZOFFSETTO:-0800
TZNAME:PST
DTSTART:20241103T090000
END:STANDARD
BEGIN:DAYLIGHT
TZOFFSETFROM:-0800
TZOFFSETTO:-0700
TZNAME:PDT
DTSTART:20250309T100000
END:DAYLIGHT
BEGIN:STANDARD
TZOFFSETFROM:-0700
TZOFFSETTO:-0800
TZNAME:PST
DTSTART:20251102T090000
END:STANDARD
END:VTIMEZONE
BEGIN:VEVENT
DTSTART;TZID=America/Los_Angeles:20240420T113000
DTEND;TZID=America/Los_Angeles:20240420T133000
DTSTAMP:20260424T115727
CREATED:20240328T140217Z
LAST-MODIFIED:20240328T140217Z
UID:36143-1713612600-1713619800@bcmhseattle.org
SUMMARY:Pre-Passover Shabbos Luncheon\, April 20\, 2024
DESCRIPTION:Adults Ages 11 & Up: $36 \nKids Ages 3-10: $20 \nKids 2 and Under: Free \nFamily Rate: $130 \n CLICK HERE TO REGISTER \nDEADLINE TO REGISTER IS APRIL 15 \nLIMITED SPACE
URL:https://bcmhseattle.org/event/pre-passover-shabbos-luncheon-april-20-2024/
LOCATION:BCMH Social Hall\, 5145 S Morgan Street\, Seattle\, WA\, 98118\, United States
CATEGORIES:Events Page
ATTACH;FMTTYPE=image/jpeg:https://bcmhseattle.org/wp-content/uploads/2024/03/PrePesachLuncheonSnip.jpg
END:VEVENT
END:VCALENDAR