BEGIN:VCALENDAR
VERSION:2.0
PRODID:-//BCMH Seattle - ECPv6.15.20//NONSGML v1.0//EN
CALSCALE:GREGORIAN
METHOD:PUBLISH
X-WR-CALNAME:BCMH Seattle
X-ORIGINAL-URL:https://bcmhseattle.org
X-WR-CALDESC:Events for BCMH Seattle
REFRESH-INTERVAL;VALUE=DURATION:PT1H
X-Robots-Tag:noindex
X-PUBLISHED-TTL:PT1H
BEGIN:VTIMEZONE
TZID:America/Los_Angeles
BEGIN:DAYLIGHT
TZOFFSETFROM:-0800
TZOFFSETTO:-0700
TZNAME:PDT
DTSTART:20210314T100000
END:DAYLIGHT
BEGIN:STANDARD
TZOFFSETFROM:-0700
TZOFFSETTO:-0800
TZNAME:PST
DTSTART:20211107T090000
END:STANDARD
BEGIN:DAYLIGHT
TZOFFSETFROM:-0800
TZOFFSETTO:-0700
TZNAME:PDT
DTSTART:20220313T100000
END:DAYLIGHT
BEGIN:STANDARD
TZOFFSETFROM:-0700
TZOFFSETTO:-0800
TZNAME:PST
DTSTART:20221106T090000
END:STANDARD
BEGIN:DAYLIGHT
TZOFFSETFROM:-0800
TZOFFSETTO:-0700
TZNAME:PDT
DTSTART:20230312T100000
END:DAYLIGHT
BEGIN:STANDARD
TZOFFSETFROM:-0700
TZOFFSETTO:-0800
TZNAME:PST
DTSTART:20231105T090000
END:STANDARD
END:VTIMEZONE
BEGIN:VEVENT
DTSTART;TZID=America/Los_Angeles:20221210T080000
DTEND;TZID=America/Los_Angeles:20221210T220000
DTSTAMP:20260424T165849
CREATED:20221111T205120Z
LAST-MODIFIED:20221128T153554Z
UID:22885-1670659200-1670709600@bcmhseattle.org
SUMMARY:Paint & Sip For Women with Rachel Russak
DESCRIPTION:To Register and Pay Go to https://bcmhseattle.org/paintandsip/ \nLimited to 50 Women \nCost: $36 through Dec. 8th – $40 per person December 9th or at the door.
URL:https://bcmhseattle.org/event/https-bcmhseattle-org-paintandsip/
LOCATION:BCMH Yavneh Youth Center\, 5145 S Morgan Street\, Seattle\, WA\, 98118\, United States
CATEGORIES:All events
END:VEVENT
END:VCALENDAR