BEGIN:VCALENDAR
VERSION:2.0
PRODID:-//BCMH Seattle - ECPv6.15.20//NONSGML v1.0//EN
CALSCALE:GREGORIAN
METHOD:PUBLISH
X-WR-CALNAME:BCMH Seattle
X-ORIGINAL-URL:https://bcmhseattle.org
X-WR-CALDESC:Events for BCMH Seattle
REFRESH-INTERVAL;VALUE=DURATION:PT1H
X-Robots-Tag:noindex
X-PUBLISHED-TTL:PT1H
BEGIN:VTIMEZONE
TZID:America/Los_Angeles
BEGIN:DAYLIGHT
TZOFFSETFROM:-0800
TZOFFSETTO:-0700
TZNAME:PDT
DTSTART:20220313T100000
END:DAYLIGHT
BEGIN:STANDARD
TZOFFSETFROM:-0700
TZOFFSETTO:-0800
TZNAME:PST
DTSTART:20221106T090000
END:STANDARD
BEGIN:DAYLIGHT
TZOFFSETFROM:-0800
TZOFFSETTO:-0700
TZNAME:PDT
DTSTART:20230312T100000
END:DAYLIGHT
BEGIN:STANDARD
TZOFFSETFROM:-0700
TZOFFSETTO:-0800
TZNAME:PST
DTSTART:20231105T090000
END:STANDARD
BEGIN:DAYLIGHT
TZOFFSETFROM:-0800
TZOFFSETTO:-0700
TZNAME:PDT
DTSTART:20240310T100000
END:DAYLIGHT
BEGIN:STANDARD
TZOFFSETFROM:-0700
TZOFFSETTO:-0800
TZNAME:PST
DTSTART:20241103T090000
END:STANDARD
END:VTIMEZONE
BEGIN:VEVENT
DTSTART;TZID=America/Los_Angeles:20231110T174500
DTEND;TZID=America/Los_Angeles:20231110T204500
DTSTAMP:20260424T134657
CREATED:20231031T165521Z
LAST-MODIFIED:20231031T194831Z
UID:35715-1699638300-1699649100@bcmhseattle.org
SUMMARY:Foody Shabbat with SIR Joel Haber
DESCRIPTION:Cost: \n$36 per person \n$25 for children ages 3-12 \n$99 per family (family discount ends Nov. 6th) \nREGISTRATION ENDS NOVEMBER 8TH \nCLICK HERE TO REGISTER & PAY
URL:https://bcmhseattle.org/event/foody-shabbat-with-sir-joel-haber/
LOCATION:T-Mobile Park\, 1250 1st AVE S\, Seattle\, WA\, 98118\, United States
CATEGORIES:Events Page
ATTACH;FMTTYPE=image/jpeg:https://bcmhseattle.org/wp-content/uploads/2023/10/Joel-Haber-Snip.jpg
END:VEVENT
END:VCALENDAR