BEGIN:VCALENDAR
VERSION:2.0
PRODID:-//BCMH Seattle - ECPv6.15.20//NONSGML v1.0//EN
CALSCALE:GREGORIAN
METHOD:PUBLISH
X-WR-CALNAME:BCMH Seattle
X-ORIGINAL-URL:https://bcmhseattle.org
X-WR-CALDESC:Events for BCMH Seattle
REFRESH-INTERVAL;VALUE=DURATION:PT1H
X-Robots-Tag:noindex
X-PUBLISHED-TTL:PT1H
BEGIN:VTIMEZONE
TZID:America/Los_Angeles
BEGIN:DAYLIGHT
TZOFFSETFROM:-0800
TZOFFSETTO:-0700
TZNAME:PDT
DTSTART:20230312T100000
END:DAYLIGHT
BEGIN:STANDARD
TZOFFSETFROM:-0700
TZOFFSETTO:-0800
TZNAME:PST
DTSTART:20231105T090000
END:STANDARD
BEGIN:DAYLIGHT
TZOFFSETFROM:-0800
TZOFFSETTO:-0700
TZNAME:PDT
DTSTART:20240310T100000
END:DAYLIGHT
BEGIN:STANDARD
TZOFFSETFROM:-0700
TZOFFSETTO:-0800
TZNAME:PST
DTSTART:20241103T090000
END:STANDARD
BEGIN:DAYLIGHT
TZOFFSETFROM:-0800
TZOFFSETTO:-0700
TZNAME:PDT
DTSTART:20250309T100000
END:DAYLIGHT
BEGIN:STANDARD
TZOFFSETFROM:-0700
TZOFFSETTO:-0800
TZNAME:PST
DTSTART:20251102T090000
END:STANDARD
END:VTIMEZONE
BEGIN:VEVENT
DTSTART;TZID=America/Los_Angeles:20240207T200000
DTEND;TZID=America/Los_Angeles:20240207T210000
DTSTAMP:20260424T134624
CREATED:20231031T180447Z
LAST-MODIFIED:20240205T194746Z
UID:35721-1707336000-1707339600@bcmhseattle.org
SUMMARY:Beginning Feb. 7\, Three Week Series For Women
DESCRIPTION:Class given by Rebbetzin Aliza Tanenbaum \n8:00 PM in the BCMH Social Hall \nFebruary 7th\, 21st & 28th \nFUNDAMENTALS OF FAITH: An Exploration of Concepts From the Ramchal\, Rav Dessler\, and Other Foundational Texts of Jewish Belief. \nSponsored by the Desmond Family In Memory of Sondra Klugman a”h
URL:https://bcmhseattle.org/event/beginning-nov-7-three-week-series-for-women/
LOCATION:T-Mobile Park\, 1250 1st AVE S\, Seattle\, WA\, 98118\, United States
CATEGORIES:Events Page
ATTACH;FMTTYPE=image/jpeg:https://bcmhseattle.org/wp-content/uploads/2023/10/FundamentalsofFaithFeb2024Sinp.jpg
END:VEVENT
END:VCALENDAR