BEGIN:VCALENDAR
VERSION:2.0
PRODID:-//BCMH Seattle - ECPv6.15.20//NONSGML v1.0//EN
CALSCALE:GREGORIAN
METHOD:PUBLISH
X-WR-CALNAME:BCMH Seattle
X-ORIGINAL-URL:https://bcmhseattle.org
X-WR-CALDESC:Events for BCMH Seattle
REFRESH-INTERVAL;VALUE=DURATION:PT1H
X-Robots-Tag:noindex
X-PUBLISHED-TTL:PT1H
BEGIN:VTIMEZONE
TZID:America/Los_Angeles
BEGIN:DAYLIGHT
TZOFFSETFROM:-0800
TZOFFSETTO:-0700
TZNAME:PDT
DTSTART:20220313T100000
END:DAYLIGHT
BEGIN:STANDARD
TZOFFSETFROM:-0700
TZOFFSETTO:-0800
TZNAME:PST
DTSTART:20221106T090000
END:STANDARD
BEGIN:DAYLIGHT
TZOFFSETFROM:-0800
TZOFFSETTO:-0700
TZNAME:PDT
DTSTART:20230312T100000
END:DAYLIGHT
BEGIN:STANDARD
TZOFFSETFROM:-0700
TZOFFSETTO:-0800
TZNAME:PST
DTSTART:20231105T090000
END:STANDARD
BEGIN:DAYLIGHT
TZOFFSETFROM:-0800
TZOFFSETTO:-0700
TZNAME:PDT
DTSTART:20240310T100000
END:DAYLIGHT
BEGIN:STANDARD
TZOFFSETFROM:-0700
TZOFFSETTO:-0800
TZNAME:PST
DTSTART:20241103T090000
END:STANDARD
END:VTIMEZONE
BEGIN:VEVENT
DTSTART;TZID=America/Los_Angeles:20230603T170000
DTEND;TZID=America/Los_Angeles:20230812T181500
DTSTAMP:20260424T154035
CREATED:20220613T192822Z
LAST-MODIFIED:20230509T193655Z
UID:22205-1685811600-1691864100@bcmhseattle.org
SUMMARY:BCMH Sisterhood Tea & Torah
DESCRIPTION:Every Shabbos afternoon. Location to be announced weekly.
URL:https://bcmhseattle.org/event/bcmh-sisterhood-tea-torah/
LOCATION:BCMH Yavneh Youth Center\, 5145 S Morgan Street\, Seattle\, WA\, 98118\, United States
ATTACH;FMTTYPE=image/jpeg:https://bcmhseattle.org/wp-content/uploads/2022/06/TeaTorahSnip.jpg
END:VEVENT
END:VCALENDAR